BEGIN:VCALENDAR
VERSION:2.0
PRODID:icalendar-ruby
CALSCALE:GREGORIAN
METHOD:PUBLISH
BEGIN:VEVENT
DTSTAMP:20260422T124548Z
UID:568-11885203@lambrick.com
DTSTART:20260611T003000Z
DTEND:20260611T033000Z
CLASS:PUBLIC
CREATED:20260413T115049
DESCRIPTION:\nOur fourth annual Lambrick x Central Youth in the Park! Come 
 celebrate the end of the youth year and the start of summer with music\, 9
 -square\, Lambrick v Central kickball\, and (of course) glizzies aka hot d
 ogs!\nThe event is for all Grades 6-12.\nPlease bring a donation to cover 
 the cost of food and drinks.\n
LAST-MODIFIED:20260413T115049
LOCATION:Cadboro-Gyro Park
SUMMARY:Youth in the Park
URL;VALUE=URI:https://www.lambrick.com/events/youth-in-the-park--568/2026-0
 6-10
ATTACH;FILENAME=Website thumbnails (7).png;FMTTYPE=image/png:https://dq5pwp
 g1q8ru0.cloudfront.net/2026/04/13/18/50/49/f5a0152b-01a9-4480-b4c5-06e14b8
 37bb0/Website%20thumbnails%20(7).png
END:VEVENT
END:VCALENDAR
