BEGIN:VCALENDAR
VERSION:2.0
PRODID:icalendar-ruby
CALSCALE:GREGORIAN
METHOD:PUBLISH
BEGIN:VEVENT
DTSTAMP:20260420T015056Z
UID:505-11727679@lambrick.com
DTSTART:20260502T170000Z
DTEND:20260502T183000Z
CLASS:PUBLIC
CREATED:20260408T134822
DESCRIPTION:The Women's Gathering aims to highlight women in ministry in a
 nd around our church family.  We strive to provide a meaningful opportuni
 ty to connect with other women at Lambrick. You can expect a time of fello
 wship before we are led in worship music\, then our guest will lead us in 
 a devotional and time of discussion and reflection.  We start at 10am and
  wrap up around 11:30am. \nRegistration is appreciated\, but not mandator
 y. 
LAST-MODIFIED:20260408T134822
LOCATION:Mt Doug Park
SUMMARY:Women's Gathering: Renewed 
URL;VALUE=URI:https://www.lambrick.com/events/womens-gathering-renewed/2026
 -05-02
ATTACH;FILENAME=Womens Gathering social media.png;FMTTYPE=image/png:https:/
 /dq5pwpg1q8ru0.cloudfront.net/2024/05/10/22/07/32/2956ffff-34a4-4b3b-b566-
 95992257c122/Womens%20Gathering%20social%20media.png
END:VEVENT
END:VCALENDAR
