BEGIN:VCALENDAR
VERSION:2.0
PRODID:icalendar-ruby
CALSCALE:GREGORIAN
METHOD:PUBLISH
BEGIN:VEVENT
DTSTAMP:20260422T124548Z
UID:569-11885204@lambrick.com
DTSTART:20260628T193000Z
DTEND:20260628T210000Z
CLASS:PUBLIC
CREATED:20260413T115619
DESCRIPTION:Apex kids and their families are invited to the DeLeeuw's for a
 n after-church potluck to celebrate the end of Apex this year. Please reg
 ister so we can organize food and have a feel for numbers. When you regis
 ter\, you will receive an e-mail with more information including the addre
 ss.\nRegistration will open soon.
LAST-MODIFIED:20260413T115619
LOCATION:The deLeeuw's
SUMMARY:Apex Family Potluck
URL;VALUE=URI:https://www.lambrick.com/events/apex-family-potluck--569/2026
 -06-28
ATTACH;FILENAME=Website thumbnails (8).png;FMTTYPE=image/png:https://dq5pwp
 g1q8ru0.cloudfront.net/2026/04/13/18/56/19/3cc7b1ca-1bd5-4ea6-9b61-de40b4a
 11b21/Website%20thumbnails%20(8).png
END:VEVENT
END:VCALENDAR
